BEGIN:VCALENDAR
VERSION:2.0
PRODID:-//Cheltenham GOP - ECPv6.15.20//NONSGML v1.0//EN
CALSCALE:GREGORIAN
METHOD:PUBLISH
X-WR-CALNAME:Cheltenham GOP
X-ORIGINAL-URL:https://cheltenhamgop.org
X-WR-CALDESC:Events for Cheltenham GOP
REFRESH-INTERVAL;VALUE=DURATION:PT1H
X-Robots-Tag:noindex
X-PUBLISHED-TTL:PT1H
BEGIN:VTIMEZONE
TZID:America/New_York
BEGIN:DAYLIGHT
TZOFFSETFROM:-0500
TZOFFSETTO:-0400
TZNAME:EDT
DTSTART:20230312T070000
END:DAYLIGHT
BEGIN:STANDARD
TZOFFSETFROM:-0400
TZOFFSETTO:-0500
TZNAME:EST
DTSTART:20231105T060000
END:STANDARD
BEGIN:DAYLIGHT
TZOFFSETFROM:-0500
TZOFFSETTO:-0400
TZNAME:EDT
DTSTART:20240310T070000
END:DAYLIGHT
BEGIN:STANDARD
TZOFFSETFROM:-0400
TZOFFSETTO:-0500
TZNAME:EST
DTSTART:20241103T060000
END:STANDARD
BEGIN:DAYLIGHT
TZOFFSETFROM:-0500
TZOFFSETTO:-0400
TZNAME:EDT
DTSTART:20250309T070000
END:DAYLIGHT
BEGIN:STANDARD
TZOFFSETFROM:-0400
TZOFFSETTO:-0500
TZNAME:EST
DTSTART:20251102T060000
END:STANDARD
END:VTIMEZONE
BEGIN:VEVENT
DTSTART;TZID=America/New_York:20241126T190000
DTEND;TZID=America/New_York:20241126T203000
DTSTAMP:20260423T202219
CREATED:20241010T193223Z
LAST-MODIFIED:20241010T193223Z
UID:8640-1732647600-1732653000@cheltenhamgop.org
SUMMARY:CHELTENHAM SCHOOL BOARD EDUCATIONAL AFFAIRS COMMITTEE MEETING
DESCRIPTION:
URL:https://cheltenhamgop.org/event/cheltenham-school-board-educational-affairs-committee-meeting-23/
CATEGORIES:School Board
END:VEVENT
BEGIN:VEVENT
DTSTART;TZID=America/New_York:20241119T190000
DTEND;TZID=America/New_York:20241119T203000
DTSTAMP:20260423T202219
CREATED:20241010T193047Z
LAST-MODIFIED:20241010T193047Z
UID:8636-1732042800-1732048200@cheltenhamgop.org
SUMMARY:CHELTENHAM SCHOOL BOARD LEGISLATIVE MEETING
DESCRIPTION:
URL:https://cheltenhamgop.org/event/cheltenham-school-board-legislative-meeting-24/
CATEGORIES:School Board
END:VEVENT
BEGIN:VEVENT
DTSTART;TZID=America/New_York:20241112T190000
DTEND;TZID=America/New_York:20241112T203000
DTSTAMP:20260423T202219
CREATED:20241010T192913Z
LAST-MODIFIED:20241010T192913Z
UID:8632-1731438000-1731443400@cheltenhamgop.org
SUMMARY:CHELTENHAM SCHOOL BOARD FACILITIES & FINANCE COMMITTEE MEETINGS
DESCRIPTION:
URL:https://cheltenhamgop.org/event/cheltenham-school-board-facilities-finance-committee-meetings-22/
CATEGORIES:School Board
END:VEVENT
BEGIN:VEVENT
DTSTART;TZID=America/New_York:20241015T190000
DTEND;TZID=America/New_York:20241015T210000
DTSTAMP:20260423T202219
CREATED:20240723T211001Z
LAST-MODIFIED:20240723T211001Z
UID:8394-1729018800-1729026000@cheltenhamgop.org
SUMMARY:CHELTENHAM SCHOOL BOARD EDUCATIONAL AFFAIRS COMMITTEE MEETING
DESCRIPTION:
URL:https://cheltenhamgop.org/event/cheltenham-school-board-educational-affairs-committee-meeting-22/
CATEGORIES:School Board
END:VEVENT
BEGIN:VEVENT
DTSTART;TZID=America/New_York:20241008T190000
DTEND;TZID=America/New_York:20241008T210000
DTSTAMP:20260423T202219
CREATED:20240723T210837Z
LAST-MODIFIED:20240723T210837Z
UID:8390-1728414000-1728421200@cheltenhamgop.org
SUMMARY:CHELTENHAM SCHOOL BOARD LEGISLATIVE MEETING
DESCRIPTION:
URL:https://cheltenhamgop.org/event/cheltenham-school-board-legislative-meeting-23/
CATEGORIES:School Board
END:VEVENT
BEGIN:VEVENT
DTSTART;TZID=America/New_York:20241001T190000
DTEND;TZID=America/New_York:20241001T210000
DTSTAMP:20260423T202219
CREATED:20240723T210711Z
LAST-MODIFIED:20240723T210711Z
UID:8386-1727809200-1727816400@cheltenhamgop.org
SUMMARY:CHELTENHAM SCHOOL BOARD FACILITIES & FINANCE COMMITTEE MEETINGS
DESCRIPTION:
URL:https://cheltenhamgop.org/event/cheltenham-school-board-facilities-finance-committee-meetings-21/
CATEGORIES:School Board
END:VEVENT
BEGIN:VEVENT
DTSTART;TZID=America/New_York:20240917T190000
DTEND;TZID=America/New_York:20240917T210000
DTSTAMP:20260423T202219
CREATED:20240723T210928Z
LAST-MODIFIED:20240723T210928Z
UID:8392-1726599600-1726606800@cheltenhamgop.org
SUMMARY:CHELTENHAM SCHOOL BOARD EDUCATIONAL AFFAIRS COMMITTEE MEETING
DESCRIPTION:
URL:https://cheltenhamgop.org/event/cheltenham-school-board-educational-affairs-committee-meeting-21/
CATEGORIES:School Board
END:VEVENT
BEGIN:VEVENT
DTSTART;TZID=America/New_York:20240910T190000
DTEND;TZID=America/New_York:20240910T210000
DTSTAMP:20260423T202219
CREATED:20240723T210803Z
LAST-MODIFIED:20240723T210803Z
UID:8388-1725994800-1726002000@cheltenhamgop.org
SUMMARY:CHELTENHAM SCHOOL BOARD LEGISLATIVE MEETING
DESCRIPTION:
URL:https://cheltenhamgop.org/event/cheltenham-school-board-legislative-meeting-22/
CATEGORIES:School Board
END:VEVENT
BEGIN:VEVENT
DTSTART;TZID=America/New_York:20240903T190000
DTEND;TZID=America/New_York:20240903T210000
DTSTAMP:20260423T202219
CREATED:20240723T210634Z
LAST-MODIFIED:20240723T210634Z
UID:8384-1725390000-1725397200@cheltenhamgop.org
SUMMARY:CHELTENHAM SCHOOL BOARD FACILITIES & FINANCE COMMITTEE MEETINGS
DESCRIPTION:
URL:https://cheltenhamgop.org/event/cheltenham-school-board-facilities-finance-committee-meetings-20/
CATEGORIES:School Board
END:VEVENT
BEGIN:VEVENT
DTSTART;TZID=America/New_York:20240820T190000
DTEND;TZID=America/New_York:20240820T210000
DTSTAMP:20260423T202219
CREATED:20240522T201613Z
LAST-MODIFIED:20240522T201613Z
UID:8175-1724180400-1724187600@cheltenhamgop.org
SUMMARY:CHELTENHAM SCHOOL BOARD EDUCATIONAL AFFAIRS COMMITTEE MEETING
DESCRIPTION:
URL:https://cheltenhamgop.org/event/cheltenham-school-board-educational-affairs-committee-meeting-20/
CATEGORIES:School Board
END:VEVENT
BEGIN:VEVENT
DTSTART;TZID=America/New_York:20240813T190000
DTEND;TZID=America/New_York:20240813T210000
DTSTAMP:20260423T202219
CREATED:20240522T201445Z
LAST-MODIFIED:20240522T201445Z
UID:8171-1723575600-1723582800@cheltenhamgop.org
SUMMARY:CHELTENHAM SCHOOL BOARD LEGISLATIVE MEETING
DESCRIPTION:
URL:https://cheltenhamgop.org/event/cheltenham-school-board-legislative-meeting-21/
CATEGORIES:School Board
END:VEVENT
BEGIN:VEVENT
DTSTART;TZID=America/New_York:20240806T190000
DTEND;TZID=America/New_York:20240806T210000
DTSTAMP:20260423T202219
CREATED:20240522T201342Z
LAST-MODIFIED:20240522T201342Z
UID:8169-1722970800-1722978000@cheltenhamgop.org
SUMMARY:CHELTENHAM SCHOOL BOARD FACILITIES & FINANCE COMMITTEE MEETINGS
DESCRIPTION:
URL:https://cheltenhamgop.org/event/cheltenham-school-board-facilities-finance-committee-meetings-19/
CATEGORIES:School Board
END:VEVENT
BEGIN:VEVENT
DTSTART;TZID=America/New_York:20240716T190000
DTEND;TZID=America/New_York:20240716T210000
DTSTAMP:20260423T202219
CREATED:20240522T201538Z
LAST-MODIFIED:20240522T201538Z
UID:8173-1721156400-1721163600@cheltenhamgop.org
SUMMARY:CHELTENHAM SCHOOL BOARD EDUCATIONAL AFFAIRS COMMITTEE MEETING
DESCRIPTION:
URL:https://cheltenhamgop.org/event/cheltenham-school-board-educational-affairs-committee-meeting-19/
CATEGORIES:School Board
END:VEVENT
BEGIN:VEVENT
DTSTART;TZID=America/New_York:20240618T190000
DTEND;TZID=America/New_York:20240618T210000
DTSTAMP:20260423T202219
CREATED:20240421T204735Z
LAST-MODIFIED:20240421T204735Z
UID:8066-1718737200-1718744400@cheltenhamgop.org
SUMMARY:CHELTENHAM SCHOOL BOARD EDUCATIONAL AFFAIRS COMMITTEE MEETING
DESCRIPTION:
URL:https://cheltenhamgop.org/event/cheltenham-school-board-educational-affairs-committee-meeting-18/
CATEGORIES:School Board
END:VEVENT
BEGIN:VEVENT
DTSTART;TZID=America/New_York:20240611T190000
DTEND;TZID=America/New_York:20240611T210000
DTSTAMP:20260423T202219
CREATED:20240421T204604Z
LAST-MODIFIED:20240421T204604Z
UID:8062-1718132400-1718139600@cheltenhamgop.org
SUMMARY:CHELTENHAM SCHOOL BOARD LEGISLATIVE MEETING
DESCRIPTION:
URL:https://cheltenhamgop.org/event/cheltenham-school-board-legislative-meeting-20/
CATEGORIES:School Board
END:VEVENT
BEGIN:VEVENT
DTSTART;TZID=America/New_York:20240604T190000
DTEND;TZID=America/New_York:20240604T210000
DTSTAMP:20260423T202219
CREATED:20240421T204436Z
LAST-MODIFIED:20240421T204436Z
UID:8058-1717527600-1717534800@cheltenhamgop.org
SUMMARY:CHELTENHAM SCHOOL BOARD FACILITIES & FINANCE COMMITTEE MEETINGS
DESCRIPTION:
URL:https://cheltenhamgop.org/event/cheltenham-school-board-facilities-finance-committee-meetings-18/
CATEGORIES:School Board
END:VEVENT
BEGIN:VEVENT
DTSTART;TZID=America/New_York:20240521T190000
DTEND;TZID=America/New_York:20240521T210000
DTSTAMP:20260423T202219
CREATED:20240421T204659Z
LAST-MODIFIED:20240421T204659Z
UID:8064-1716318000-1716325200@cheltenhamgop.org
SUMMARY:CHELTENHAM SCHOOL BOARD EDUCATIONAL AFFAIRS COMMITTEE MEETING
DESCRIPTION:
URL:https://cheltenhamgop.org/event/cheltenham-school-board-educational-affairs-committee-meeting-17/
CATEGORIES:School Board
END:VEVENT
BEGIN:VEVENT
DTSTART;TZID=America/New_York:20240514T190000
DTEND;TZID=America/New_York:20240514T210000
DTSTAMP:20260423T202219
CREATED:20240421T204531Z
LAST-MODIFIED:20240421T204531Z
UID:8060-1715713200-1715720400@cheltenhamgop.org
SUMMARY:CHELTENHAM SCHOOL BOARD LEGISLATIVE MEETING
DESCRIPTION:
URL:https://cheltenhamgop.org/event/cheltenham-school-board-legislative-meeting-19/
CATEGORIES:School Board
END:VEVENT
BEGIN:VEVENT
DTSTART;TZID=America/New_York:20240507T190000
DTEND;TZID=America/New_York:20240507T210000
DTSTAMP:20260423T202219
CREATED:20240421T204402Z
LAST-MODIFIED:20240421T204402Z
UID:8056-1715108400-1715115600@cheltenhamgop.org
SUMMARY:CHELTENHAM SCHOOL BOARD FACILITIES & FINANCE COMMITTEE MEETINGS
DESCRIPTION:
URL:https://cheltenhamgop.org/event/cheltenham-school-board-facilities-finance-committee-meetings-17/
CATEGORIES:School Board
END:VEVENT
END:VCALENDAR