BEGIN:VCALENDAR
VERSION:2.0
PRODID:-//Cheltenham GOP - ECPv6.15.20//NONSGML v1.0//EN
CALSCALE:GREGORIAN
METHOD:PUBLISH
X-ORIGINAL-URL:https://cheltenhamgop.org
X-WR-CALDESC:Events for Cheltenham GOP
REFRESH-INTERVAL;VALUE=DURATION:PT1H
X-Robots-Tag:noindex
X-PUBLISHED-TTL:PT1H
BEGIN:VTIMEZONE
TZID:America/New_York
BEGIN:DAYLIGHT
TZOFFSETFROM:-0500
TZOFFSETTO:-0400
TZNAME:EDT
DTSTART:20230312T070000
END:DAYLIGHT
BEGIN:STANDARD
TZOFFSETFROM:-0400
TZOFFSETTO:-0500
TZNAME:EST
DTSTART:20231105T060000
END:STANDARD
BEGIN:DAYLIGHT
TZOFFSETFROM:-0500
TZOFFSETTO:-0400
TZNAME:EDT
DTSTART:20240310T070000
END:DAYLIGHT
BEGIN:STANDARD
TZOFFSETFROM:-0400
TZOFFSETTO:-0500
TZNAME:EST
DTSTART:20241103T060000
END:STANDARD
BEGIN:DAYLIGHT
TZOFFSETFROM:-0500
TZOFFSETTO:-0400
TZNAME:EDT
DTSTART:20250309T070000
END:DAYLIGHT
BEGIN:STANDARD
TZOFFSETFROM:-0400
TZOFFSETTO:-0500
TZNAME:EST
DTSTART:20251102T060000
END:STANDARD
BEGIN:DAYLIGHT
TZOFFSETFROM:-0500
TZOFFSETTO:-0400
TZNAME:EDT
DTSTART:20260308T070000
END:DAYLIGHT
BEGIN:STANDARD
TZOFFSETFROM:-0400
TZOFFSETTO:-0500
TZNAME:EST
DTSTART:20261101T060000
END:STANDARD
END:VTIMEZONE
BEGIN:VEVENT
DTSTART;TZID=America/New_York:20250520T190000
DTEND;TZID=America/New_York:20250520T203000
DTSTAMP:20260423T171245
CREATED:20250415T213036Z
LAST-MODIFIED:20250415T213036Z
UID:9710-1747767600-1747773000@cheltenhamgop.org
SUMMARY:CHELTENHAM SCHOOL BOARD EDUCATIONAL AFFAIRS COMMITTEE MEETING
DESCRIPTION:
URL:https://cheltenhamgop.org/event/cheltenham-school-board-educational-affairs-committee-meeting/
LOCATION:School Administration Building\, 2000 Ashbourne Road\, Elkins Park\, PA\, 19027\, United States
CATEGORIES:School Board
END:VEVENT
BEGIN:VEVENT
DTSTART;TZID=America/New_York:20250513T190000
DTEND;TZID=America/New_York:20250513T203000
DTSTAMP:20260423T171245
CREATED:20250415T212902Z
LAST-MODIFIED:20250415T212902Z
UID:9706-1747162800-1747168200@cheltenhamgop.org
SUMMARY:CHELTENHAM SCHOOL BOARD LEGISLATIVE MEETING
DESCRIPTION:
URL:https://cheltenhamgop.org/event/cheltenham-school-board-legislative-meeting/
LOCATION:School Administration Building\, 2000 Ashbourne Road\, Elkins Park\, PA\, 19027\, United States
CATEGORIES:School Board
END:VEVENT
BEGIN:VEVENT
DTSTART;TZID=America/New_York:20250506T190000
DTEND;TZID=America/New_York:20250506T203000
DTSTAMP:20260423T171245
CREATED:20250415T212655Z
LAST-MODIFIED:20250415T212655Z
UID:9701-1746558000-1746563400@cheltenhamgop.org
SUMMARY:CHELTENHAM SCHOOL BOARD FACILITIES & FINANCE COMMITTEE MEETINGS
DESCRIPTION:
URL:https://cheltenhamgop.org/event/cheltenham-school-board-facilities-finance-committee-meetings/
LOCATION:School Administration Building\, 2000 Ashbourne Road\, Elkins Park\, PA\, 19027\, United States
CATEGORIES:School Board
END:VEVENT
BEGIN:VEVENT
DTSTART;TZID=America/New_York:20250415T190000
DTEND;TZID=America/New_York:20250415T210000
DTSTAMP:20260423T171245
CREATED:20250211T225642Z
LAST-MODIFIED:20250211T225642Z
UID:9213-1744743600-1744750800@cheltenhamgop.org
SUMMARY:CHELTENHAM SCHOOL BOARD EDUCATIONAL AFFAIRS COMMITTEE MEETING
DESCRIPTION:
URL:https://cheltenhamgop.org/event/cheltenham-school-board-educational-affairs-committee-meeting-28/
LOCATION:PA
CATEGORIES:School Board
END:VEVENT
BEGIN:VEVENT
DTSTART;TZID=America/New_York:20250408T190000
DTEND;TZID=America/New_York:20250408T210000
DTSTAMP:20260423T171245
CREATED:20250211T225511Z
LAST-MODIFIED:20250211T225511Z
UID:9209-1744138800-1744146000@cheltenhamgop.org
SUMMARY:CHELTENHAM SCHOOL BOARD LEGISLATIVE MEETING
DESCRIPTION:
URL:https://cheltenhamgop.org/event/cheltenham-school-board-legislative-meeting-28/
LOCATION:PA
CATEGORIES:School Board
END:VEVENT
BEGIN:VEVENT
DTSTART;TZID=America/New_York:20250401T190000
DTEND;TZID=America/New_York:20250401T210000
DTSTAMP:20260423T171245
CREATED:20250211T225342Z
LAST-MODIFIED:20250211T225342Z
UID:9205-1743534000-1743541200@cheltenhamgop.org
SUMMARY:CHELTENHAM SCHOOL BOARD FACILITIES & FINANCE COMMITTEE MEETINGS
DESCRIPTION:
URL:https://cheltenhamgop.org/event/cheltenham-school-board-facilities-finance-committee-meetings-27/
LOCATION:PA
CATEGORIES:School Board
END:VEVENT
BEGIN:VEVENT
DTSTART;TZID=America/New_York:20250318T190000
DTEND;TZID=America/New_York:20250318T210000
DTSTAMP:20260423T171245
CREATED:20250211T225605Z
LAST-MODIFIED:20250211T225605Z
UID:9211-1742324400-1742331600@cheltenhamgop.org
SUMMARY:CHELTENHAM SCHOOL BOARD EDUCATIONAL AFFAIRS COMMITTEE MEETING
DESCRIPTION:
URL:https://cheltenhamgop.org/event/cheltenham-school-board-educational-affairs-committee-meeting-27/
LOCATION:PA
CATEGORIES:School Board
END:VEVENT
BEGIN:VEVENT
DTSTART;TZID=America/New_York:20250311T190000
DTEND;TZID=America/New_York:20250311T210000
DTSTAMP:20260423T171245
CREATED:20250211T225435Z
LAST-MODIFIED:20250211T225435Z
UID:9207-1741719600-1741726800@cheltenhamgop.org
SUMMARY:CHELTENHAM SCHOOL BOARD LEGISLATIVE MEETING
DESCRIPTION:
URL:https://cheltenhamgop.org/event/cheltenham-school-board-legislative-meeting-27/
LOCATION:PA
CATEGORIES:School Board
END:VEVENT
BEGIN:VEVENT
DTSTART;TZID=America/New_York:20250304T190000
DTEND;TZID=America/New_York:20250304T210000
DTSTAMP:20260423T171245
CREATED:20250211T225258Z
LAST-MODIFIED:20250211T225258Z
UID:9203-1741114800-1741122000@cheltenhamgop.org
SUMMARY:CHELTENHAM SCHOOL BOARD FACILITIES & FINANCE COMMITTEE MEETINGS
DESCRIPTION:
URL:https://cheltenhamgop.org/event/cheltenham-school-board-facilities-finance-committee-meetings-26/
LOCATION:PA
CATEGORIES:School Board
END:VEVENT
BEGIN:VEVENT
DTSTART;TZID=America/New_York:20250226T190000
DTEND;TZID=America/New_York:20250226T210000
DTSTAMP:20260423T171245
CREATED:20250211T225011Z
LAST-MODIFIED:20250211T225011Z
UID:9201-1740596400-1740603600@cheltenhamgop.org
SUMMARY:PUBLIC HEARING ABOUT ELKINS PARK SCHOOL
DESCRIPTION:
URL:https://cheltenhamgop.org/event/public-hearing-about-elkins-park-school/
LOCATION:PA
CATEGORIES:School Board
END:VEVENT
BEGIN:VEVENT
DTSTART;TZID=America/New_York:20250218T190000
DTEND;TZID=America/New_York:20250218T210000
DTSTAMP:20260423T171245
CREATED:20241202T225016Z
LAST-MODIFIED:20241202T225016Z
UID:8861-1739905200-1739912400@cheltenhamgop.org
SUMMARY:CHELTENHAM SCHOOL BOARD EDUCATIONAL AFFAIRS COMMITTEE MEETING
DESCRIPTION:
URL:https://cheltenhamgop.org/event/cheltenham-school-board-educational-affairs-committee-meeting-26/
LOCATION:PA
CATEGORIES:School Board
END:VEVENT
BEGIN:VEVENT
DTSTART;TZID=America/New_York:20250211T190000
DTEND;TZID=America/New_York:20250211T210000
DTSTAMP:20260423T171245
CREATED:20241202T224749Z
LAST-MODIFIED:20241202T224749Z
UID:8856-1739300400-1739307600@cheltenhamgop.org
SUMMARY:CHELTENHAM SCHOOL BOARD LEGISLATIVE MEETING
DESCRIPTION:
URL:https://cheltenhamgop.org/event/cheltenham-school-board-legislative-meeting-26/
LOCATION:PA
CATEGORIES:School Board
END:VEVENT
BEGIN:VEVENT
DTSTART;TZID=America/New_York:20250204T190000
DTEND;TZID=America/New_York:20250204T210000
DTSTAMP:20260423T171245
CREATED:20241202T224551Z
LAST-MODIFIED:20241202T224551Z
UID:8852-1738695600-1738702800@cheltenhamgop.org
SUMMARY:CHELTENHAM SCHOOL BOARD FACILITIES & FINANCE COMMITTEE MEETINGS
DESCRIPTION:
URL:https://cheltenhamgop.org/event/cheltenham-school-board-facilities-finance-committee-meetings-25/
LOCATION:PA
CATEGORIES:School Board
END:VEVENT
BEGIN:VEVENT
DTSTART;TZID=America/New_York:20250128T190000
DTEND;TZID=America/New_York:20250128T210000
DTSTAMP:20260423T171245
CREATED:20241202T225121Z
LAST-MODIFIED:20241202T225121Z
UID:8863-1738090800-1738098000@cheltenhamgop.org
SUMMARY:CHELTENHAM SCHOOL BOARD POLICY COMMITTEE MEETING
DESCRIPTION:
URL:https://cheltenhamgop.org/event/cheltenham-school-board-policy-committee-meeting-13/
LOCATION:PA
CATEGORIES:School Board
END:VEVENT
BEGIN:VEVENT
DTSTART;TZID=America/New_York:20250121T190000
DTEND;TZID=America/New_York:20250121T210000
DTSTAMP:20260423T171245
CREATED:20241202T224937Z
LAST-MODIFIED:20241202T224937Z
UID:8859-1737486000-1737493200@cheltenhamgop.org
SUMMARY:CHELTENHAM SCHOOL BOARD EDUCATIONAL AFFAIRS COMMITTEE MEETING
DESCRIPTION:
URL:https://cheltenhamgop.org/event/cheltenham-school-board-educational-affairs-committee-meeting-25/
LOCATION:PA
CATEGORIES:School Board
END:VEVENT
BEGIN:VEVENT
DTSTART;TZID=America/New_York:20250114T190000
DTEND;TZID=America/New_York:20250114T210000
DTSTAMP:20260423T171245
CREATED:20241202T224645Z
LAST-MODIFIED:20241202T224833Z
UID:8854-1736881200-1736888400@cheltenhamgop.org
SUMMARY:CHELTENHAM SCHOOL BOARD LEGISLATIVE MEETING
DESCRIPTION:
URL:https://cheltenhamgop.org/event/cheltenham-school-board-legislative-meeting-december-10-700-pm-830-pm/
LOCATION:PA
CATEGORIES:School Board
END:VEVENT
BEGIN:VEVENT
DTSTART;TZID=America/New_York:20250107T190000
DTEND;TZID=America/New_York:20250107T210000
DTSTAMP:20260423T171245
CREATED:20241202T224511Z
LAST-MODIFIED:20241202T224511Z
UID:8850-1736276400-1736283600@cheltenhamgop.org
SUMMARY:CHELTENHAM SCHOOL BOARD FACILITIES & FINANCE COMMITTEE MEETINGS
DESCRIPTION:
URL:https://cheltenhamgop.org/event/cheltenham-school-board-facilities-finance-committee-meetings-24/
LOCATION:PA
CATEGORIES:School Board
END:VEVENT
BEGIN:VEVENT
DTSTART;TZID=America/New_York:20241217T190000
DTEND;TZID=America/New_York:20241217T203000
DTSTAMP:20260423T171245
CREATED:20241010T193259Z
LAST-MODIFIED:20241010T193259Z
UID:8642-1734462000-1734467400@cheltenhamgop.org
SUMMARY:CHELTENHAM SCHOOL BOARD EDUCATIONAL AFFAIRS COMMITTEE MEETING
DESCRIPTION:
URL:https://cheltenhamgop.org/event/cheltenham-school-board-educational-affairs-committee-meeting-24/
LOCATION:PA
CATEGORIES:School Board
END:VEVENT
BEGIN:VEVENT
DTSTART;TZID=America/New_York:20241210T190000
DTEND;TZID=America/New_York:20241210T203000
DTSTAMP:20260423T171245
CREATED:20241010T193123Z
LAST-MODIFIED:20241010T193123Z
UID:8638-1733857200-1733862600@cheltenhamgop.org
SUMMARY:CHELTENHAM SCHOOL BOARD LEGISLATIVE MEETING
DESCRIPTION:
URL:https://cheltenhamgop.org/event/cheltenham-school-board-legislative-meeting-25/
LOCATION:PA
CATEGORIES:School Board
END:VEVENT
BEGIN:VEVENT
DTSTART;TZID=America/New_York:20241203T190000
DTEND;TZID=America/New_York:20241203T203000
DTSTAMP:20260423T171245
CREATED:20241010T192949Z
LAST-MODIFIED:20241010T192949Z
UID:8634-1733252400-1733257800@cheltenhamgop.org
SUMMARY:CHELTENHAM SCHOOL BOARD FACILITIES & FINANCE COMMITTEE MEETINGS
DESCRIPTION:
URL:https://cheltenhamgop.org/event/cheltenham-school-board-facilities-finance-committee-meetings-23/
LOCATION:PA
CATEGORIES:School Board
END:VEVENT
BEGIN:VEVENT
DTSTART;TZID=America/New_York:20241126T190000
DTEND;TZID=America/New_York:20241126T203000
DTSTAMP:20260423T171245
CREATED:20241010T193223Z
LAST-MODIFIED:20241010T193223Z
UID:8640-1732647600-1732653000@cheltenhamgop.org
SUMMARY:CHELTENHAM SCHOOL BOARD EDUCATIONAL AFFAIRS COMMITTEE MEETING
DESCRIPTION:
URL:https://cheltenhamgop.org/event/cheltenham-school-board-educational-affairs-committee-meeting-23/
LOCATION:PA
CATEGORIES:School Board
END:VEVENT
BEGIN:VEVENT
DTSTART;TZID=America/New_York:20241119T190000
DTEND;TZID=America/New_York:20241119T203000
DTSTAMP:20260423T171245
CREATED:20241010T193047Z
LAST-MODIFIED:20241010T193047Z
UID:8636-1732042800-1732048200@cheltenhamgop.org
SUMMARY:CHELTENHAM SCHOOL BOARD LEGISLATIVE MEETING
DESCRIPTION:
URL:https://cheltenhamgop.org/event/cheltenham-school-board-legislative-meeting-24/
LOCATION:PA
CATEGORIES:School Board
END:VEVENT
BEGIN:VEVENT
DTSTART;TZID=America/New_York:20241112T190000
DTEND;TZID=America/New_York:20241112T203000
DTSTAMP:20260423T171245
CREATED:20241010T192913Z
LAST-MODIFIED:20241010T192913Z
UID:8632-1731438000-1731443400@cheltenhamgop.org
SUMMARY:CHELTENHAM SCHOOL BOARD FACILITIES & FINANCE COMMITTEE MEETINGS
DESCRIPTION:
URL:https://cheltenhamgop.org/event/cheltenham-school-board-facilities-finance-committee-meetings-22/
LOCATION:PA
CATEGORIES:School Board
END:VEVENT
BEGIN:VEVENT
DTSTART;TZID=America/New_York:20241015T190000
DTEND;TZID=America/New_York:20241015T210000
DTSTAMP:20260423T171245
CREATED:20240723T211001Z
LAST-MODIFIED:20240723T211001Z
UID:8394-1729018800-1729026000@cheltenhamgop.org
SUMMARY:CHELTENHAM SCHOOL BOARD EDUCATIONAL AFFAIRS COMMITTEE MEETING
DESCRIPTION:
URL:https://cheltenhamgop.org/event/cheltenham-school-board-educational-affairs-committee-meeting-22/
LOCATION:PA
CATEGORIES:School Board
END:VEVENT
BEGIN:VEVENT
DTSTART;TZID=America/New_York:20241008T190000
DTEND;TZID=America/New_York:20241008T210000
DTSTAMP:20260423T171245
CREATED:20240723T210837Z
LAST-MODIFIED:20240723T210837Z
UID:8390-1728414000-1728421200@cheltenhamgop.org
SUMMARY:CHELTENHAM SCHOOL BOARD LEGISLATIVE MEETING
DESCRIPTION:
URL:https://cheltenhamgop.org/event/cheltenham-school-board-legislative-meeting-23/
LOCATION:PA
CATEGORIES:School Board
END:VEVENT
BEGIN:VEVENT
DTSTART;TZID=America/New_York:20241001T190000
DTEND;TZID=America/New_York:20241001T210000
DTSTAMP:20260423T171245
CREATED:20240723T210711Z
LAST-MODIFIED:20240723T210711Z
UID:8386-1727809200-1727816400@cheltenhamgop.org
SUMMARY:CHELTENHAM SCHOOL BOARD FACILITIES & FINANCE COMMITTEE MEETINGS
DESCRIPTION:
URL:https://cheltenhamgop.org/event/cheltenham-school-board-facilities-finance-committee-meetings-21/
LOCATION:PA
CATEGORIES:School Board
END:VEVENT
BEGIN:VEVENT
DTSTART;TZID=America/New_York:20240917T190000
DTEND;TZID=America/New_York:20240917T210000
DTSTAMP:20260423T171245
CREATED:20240723T210928Z
LAST-MODIFIED:20240723T210928Z
UID:8392-1726599600-1726606800@cheltenhamgop.org
SUMMARY:CHELTENHAM SCHOOL BOARD EDUCATIONAL AFFAIRS COMMITTEE MEETING
DESCRIPTION:
URL:https://cheltenhamgop.org/event/cheltenham-school-board-educational-affairs-committee-meeting-21/
LOCATION:PA
CATEGORIES:School Board
END:VEVENT
BEGIN:VEVENT
DTSTART;TZID=America/New_York:20240910T190000
DTEND;TZID=America/New_York:20240910T210000
DTSTAMP:20260423T171245
CREATED:20240723T210803Z
LAST-MODIFIED:20240723T210803Z
UID:8388-1725994800-1726002000@cheltenhamgop.org
SUMMARY:CHELTENHAM SCHOOL BOARD LEGISLATIVE MEETING
DESCRIPTION:
URL:https://cheltenhamgop.org/event/cheltenham-school-board-legislative-meeting-22/
LOCATION:PA
CATEGORIES:School Board
END:VEVENT
BEGIN:VEVENT
DTSTART;TZID=America/New_York:20240903T190000
DTEND;TZID=America/New_York:20240903T210000
DTSTAMP:20260423T171245
CREATED:20240723T210634Z
LAST-MODIFIED:20240723T210634Z
UID:8384-1725390000-1725397200@cheltenhamgop.org
SUMMARY:CHELTENHAM SCHOOL BOARD FACILITIES & FINANCE COMMITTEE MEETINGS
DESCRIPTION:
URL:https://cheltenhamgop.org/event/cheltenham-school-board-facilities-finance-committee-meetings-20/
LOCATION:PA
CATEGORIES:School Board
END:VEVENT
BEGIN:VEVENT
DTSTART;TZID=America/New_York:20240820T190000
DTEND;TZID=America/New_York:20240820T210000
DTSTAMP:20260423T171245
CREATED:20240522T201613Z
LAST-MODIFIED:20240522T201613Z
UID:8175-1724180400-1724187600@cheltenhamgop.org
SUMMARY:CHELTENHAM SCHOOL BOARD EDUCATIONAL AFFAIRS COMMITTEE MEETING
DESCRIPTION:
URL:https://cheltenhamgop.org/event/cheltenham-school-board-educational-affairs-committee-meeting-20/
LOCATION:PA
CATEGORIES:School Board
END:VEVENT
END:VCALENDAR