BEGIN:VCALENDAR
VERSION:2.0
PRODID:-//Cheltenham GOP - ECPv6.15.20//NONSGML v1.0//EN
CALSCALE:GREGORIAN
METHOD:PUBLISH
X-ORIGINAL-URL:https://cheltenhamgop.org
X-WR-CALDESC:Events for Cheltenham GOP
REFRESH-INTERVAL;VALUE=DURATION:PT1H
X-Robots-Tag:noindex
X-PUBLISHED-TTL:PT1H
BEGIN:VTIMEZONE
TZID:America/New_York
BEGIN:DAYLIGHT
TZOFFSETFROM:-0500
TZOFFSETTO:-0400
TZNAME:EDT
DTSTART:20250309T070000
END:DAYLIGHT
BEGIN:STANDARD
TZOFFSETFROM:-0400
TZOFFSETTO:-0500
TZNAME:EST
DTSTART:20251102T060000
END:STANDARD
BEGIN:DAYLIGHT
TZOFFSETFROM:-0500
TZOFFSETTO:-0400
TZNAME:EDT
DTSTART:20260308T070000
END:DAYLIGHT
BEGIN:STANDARD
TZOFFSETFROM:-0400
TZOFFSETTO:-0500
TZNAME:EST
DTSTART:20261101T060000
END:STANDARD
BEGIN:DAYLIGHT
TZOFFSETFROM:-0500
TZOFFSETTO:-0400
TZNAME:EDT
DTSTART:20270314T070000
END:DAYLIGHT
BEGIN:STANDARD
TZOFFSETFROM:-0400
TZOFFSETTO:-0500
TZNAME:EST
DTSTART:20271107T060000
END:STANDARD
END:VTIMEZONE
BEGIN:VEVENT
DTSTART;TZID=America/New_York:20260303T190000
DTEND;TZID=America/New_York:20260303T210000
DTSTAMP:20260423T135641
CREATED:20260216T210218Z
LAST-MODIFIED:20260216T210218Z
UID:11469-1772564400-1772571600@cheltenhamgop.org
SUMMARY:CHELTENHAM SCHOOL BOARD FACILITIES & FINANCE COMMITTEE MEETINGS
DESCRIPTION:
URL:https://cheltenhamgop.org/event/cheltenham-school-board-facilities-finance-committee-meetings-7/
LOCATION:School Administration Building\, 2000 Ashbourne Road\, Elkins Park\, PA\, 19027\, United States
CATEGORIES:School Board
END:VEVENT
BEGIN:VEVENT
DTSTART;TZID=America/New_York:20260310T190000
DTEND;TZID=America/New_York:20260310T210000
DTSTAMP:20260423T135641
CREATED:20260216T210359Z
LAST-MODIFIED:20260216T210359Z
UID:11473-1773169200-1773176400@cheltenhamgop.org
SUMMARY:CHELTENHAM SCHOOL BOARD LEGISLATIVE MEETING
DESCRIPTION:
URL:https://cheltenhamgop.org/event/cheltenham-school-board-legislative-meeting-7/
LOCATION:School Administration Building\, 2000 Ashbourne Road\, Elkins Park\, PA\, 19027\, United States
CATEGORIES:School Board
END:VEVENT
BEGIN:VEVENT
DTSTART;TZID=America/New_York:20260317T190000
DTEND;TZID=America/New_York:20260317T210000
DTSTAMP:20260423T135641
CREATED:20260216T210721Z
LAST-MODIFIED:20260216T210721Z
UID:11481-1773774000-1773781200@cheltenhamgop.org
SUMMARY:CHELTENHAM SCHOOL BOARD EDUCATIONAL AFFAIRS COMMITTEE MEETING
DESCRIPTION:
URL:https://cheltenhamgop.org/event/cheltenham-school-board-educational-affairs-committee-meeting-12/
LOCATION:School Administration Building\, 2000 Ashbourne Road\, Elkins Park\, PA\, 19027\, United States
CATEGORIES:School Board
END:VEVENT
BEGIN:VEVENT
DTSTART;TZID=America/New_York:20260324T190000
DTEND;TZID=America/New_York:20260324T210000
DTSTAMP:20260423T135641
CREATED:20260216T210544Z
LAST-MODIFIED:20260216T210544Z
UID:11477-1774378800-1774386000@cheltenhamgop.org
SUMMARY:CHELTENHAM SCHOOL BOARD POLICY COMMITTEE MEETING
DESCRIPTION:
URL:https://cheltenhamgop.org/event/cheltenham-school-board-policy-committee-meeting-3/
LOCATION:School Administration Building\, 2000 Ashbourne Road\, Elkins Park\, PA\, 19027\, United States
CATEGORIES:School Board
END:VEVENT
END:VCALENDAR