BEGIN:VCALENDAR
VERSION:2.0
PRODID:-//Cheltenham GOP - ECPv6.15.20//NONSGML v1.0//EN
CALSCALE:GREGORIAN
METHOD:PUBLISH
X-WR-CALNAME:Cheltenham GOP
X-ORIGINAL-URL:https://cheltenhamgop.org
X-WR-CALDESC:Events for Cheltenham GOP
REFRESH-INTERVAL;VALUE=DURATION:PT1H
X-Robots-Tag:noindex
X-PUBLISHED-TTL:PT1H
BEGIN:VTIMEZONE
TZID:America/New_York
BEGIN:DAYLIGHT
TZOFFSETFROM:-0500
TZOFFSETTO:-0400
TZNAME:EDT
DTSTART:20250309T070000
END:DAYLIGHT
BEGIN:STANDARD
TZOFFSETFROM:-0400
TZOFFSETTO:-0500
TZNAME:EST
DTSTART:20251102T060000
END:STANDARD
BEGIN:DAYLIGHT
TZOFFSETFROM:-0500
TZOFFSETTO:-0400
TZNAME:EDT
DTSTART:20260308T070000
END:DAYLIGHT
BEGIN:STANDARD
TZOFFSETFROM:-0400
TZOFFSETTO:-0500
TZNAME:EST
DTSTART:20261101T060000
END:STANDARD
BEGIN:DAYLIGHT
TZOFFSETFROM:-0500
TZOFFSETTO:-0400
TZNAME:EDT
DTSTART:20270314T070000
END:DAYLIGHT
BEGIN:STANDARD
TZOFFSETFROM:-0400
TZOFFSETTO:-0500
TZNAME:EST
DTSTART:20271107T060000
END:STANDARD
END:VTIMEZONE
BEGIN:VEVENT
DTSTART;TZID=America/New_York:20260203T190000
DTEND;TZID=America/New_York:20260203T210000
DTSTAMP:20260423T152446
CREATED:20251212T190546Z
LAST-MODIFIED:20251212T190546Z
UID:11346-1770145200-1770152400@cheltenhamgop.org
SUMMARY:CHELTENHAM SCHOOL BOARD FACILITIES & FINANCE COMMITTEE MEETINGS
DESCRIPTION:
URL:https://cheltenhamgop.org/event/cheltenham-school-board-facilities-finance-committee-meetings-6/
LOCATION:School Administration Building\, 2000 Ashbourne Road\, Elkins Park\, PA\, 19027\, United States
CATEGORIES:School Board
END:VEVENT
BEGIN:VEVENT
DTSTART;TZID=America/New_York:20260210T190000
DTEND;TZID=America/New_York:20260210T210000
DTSTAMP:20260423T152446
CREATED:20251212T190719Z
LAST-MODIFIED:20251212T190719Z
UID:11350-1770750000-1770757200@cheltenhamgop.org
SUMMARY:CHELTENHAM SCHOOL BOARD LEGISLATIVE MEETING
DESCRIPTION:
URL:https://cheltenhamgop.org/event/cheltenham-school-board-legislative-meeting-6/
LOCATION:School Administration Building\, 2000 Ashbourne Road\, Elkins Park\, PA\, 19027\, United States
CATEGORIES:School Board
END:VEVENT
BEGIN:VEVENT
DTSTART;TZID=America/New_York:20260217T190000
DTEND;TZID=America/New_York:20260217T210000
DTSTAMP:20260423T152446
CREATED:20251212T190853Z
LAST-MODIFIED:20251212T190853Z
UID:11354-1771354800-1771362000@cheltenhamgop.org
SUMMARY:CHELTENHAM SCHOOL BOARD EDUCATIONAL AFFAIRS COMMITTEE MEETING
DESCRIPTION:
URL:https://cheltenhamgop.org/event/cheltenham-school-board-educational-affairs-committee-meeting-10/
LOCATION:School Administration Building\, 2000 Ashbourne Road\, Elkins Park\, PA\, 19027\, United States
CATEGORIES:School Board
END:VEVENT
END:VCALENDAR