BEGIN:VCALENDAR
VERSION:2.0
PRODID:-//Cheltenham GOP - ECPv6.15.20//NONSGML v1.0//EN
CALSCALE:GREGORIAN
METHOD:PUBLISH
X-WR-CALNAME:Cheltenham GOP
X-ORIGINAL-URL:https://cheltenhamgop.org
X-WR-CALDESC:Events for Cheltenham GOP
REFRESH-INTERVAL;VALUE=DURATION:PT1H
X-Robots-Tag:noindex
X-PUBLISHED-TTL:PT1H
BEGIN:VTIMEZONE
TZID:America/New_York
BEGIN:DAYLIGHT
TZOFFSETFROM:-0500
TZOFFSETTO:-0400
TZNAME:EDT
DTSTART:20240310T070000
END:DAYLIGHT
BEGIN:STANDARD
TZOFFSETFROM:-0400
TZOFFSETTO:-0500
TZNAME:EST
DTSTART:20241103T060000
END:STANDARD
BEGIN:DAYLIGHT
TZOFFSETFROM:-0500
TZOFFSETTO:-0400
TZNAME:EDT
DTSTART:20250309T070000
END:DAYLIGHT
BEGIN:STANDARD
TZOFFSETFROM:-0400
TZOFFSETTO:-0500
TZNAME:EST
DTSTART:20251102T060000
END:STANDARD
BEGIN:DAYLIGHT
TZOFFSETFROM:-0500
TZOFFSETTO:-0400
TZNAME:EDT
DTSTART:20260308T070000
END:DAYLIGHT
BEGIN:STANDARD
TZOFFSETFROM:-0400
TZOFFSETTO:-0500
TZNAME:EST
DTSTART:20261101T060000
END:STANDARD
END:VTIMEZONE
BEGIN:VEVENT
DTSTART;TZID=America/New_York:20250506T190000
DTEND;TZID=America/New_York:20250506T203000
DTSTAMP:20260424T055333
CREATED:20250415T212655Z
LAST-MODIFIED:20250415T212655Z
UID:9701-1746558000-1746563400@cheltenhamgop.org
SUMMARY:CHELTENHAM SCHOOL BOARD FACILITIES & FINANCE COMMITTEE MEETINGS
DESCRIPTION:
URL:https://cheltenhamgop.org/event/cheltenham-school-board-facilities-finance-committee-meetings/
LOCATION:School Administration Building\, 2000 Ashbourne Road\, Elkins Park\, PA\, 19027\, United States
CATEGORIES:School Board
END:VEVENT
BEGIN:VEVENT
DTSTART;TZID=America/New_York:20250513T190000
DTEND;TZID=America/New_York:20250513T203000
DTSTAMP:20260424T055333
CREATED:20250415T212902Z
LAST-MODIFIED:20250415T212902Z
UID:9706-1747162800-1747168200@cheltenhamgop.org
SUMMARY:CHELTENHAM SCHOOL BOARD LEGISLATIVE MEETING
DESCRIPTION:
URL:https://cheltenhamgop.org/event/cheltenham-school-board-legislative-meeting/
LOCATION:School Administration Building\, 2000 Ashbourne Road\, Elkins Park\, PA\, 19027\, United States
CATEGORIES:School Board
END:VEVENT
BEGIN:VEVENT
DTSTART;TZID=America/New_York:20250520T190000
DTEND;TZID=America/New_York:20250520T203000
DTSTAMP:20260424T055333
CREATED:20250415T213036Z
LAST-MODIFIED:20250415T213036Z
UID:9710-1747767600-1747773000@cheltenhamgop.org
SUMMARY:CHELTENHAM SCHOOL BOARD EDUCATIONAL AFFAIRS COMMITTEE MEETING
DESCRIPTION:
URL:https://cheltenhamgop.org/event/cheltenham-school-board-educational-affairs-committee-meeting/
LOCATION:School Administration Building\, 2000 Ashbourne Road\, Elkins Park\, PA\, 19027\, United States
CATEGORIES:School Board
END:VEVENT
BEGIN:VEVENT
DTSTART;TZID=America/New_York:20250520T190000
DTEND;TZID=America/New_York:20250520T203000
DTSTAMP:20260424T055333
CREATED:20250415T213218Z
LAST-MODIFIED:20250415T213218Z
UID:9714-1747767600-1747773000@cheltenhamgop.org
SUMMARY:CHELTENHAM SCHOOL BOARD POLICY COMMITTEE MEETING
DESCRIPTION:
URL:https://cheltenhamgop.org/event/cheltenham-school-board-policy-committee-meeting/
LOCATION:School Administration Building\, 2000 Ashbourne Road\, Elkins Park\, PA\, 19027\, United States
CATEGORIES:School Board
END:VEVENT
END:VCALENDAR